BEGIN:VCALENDAR
VERSION:2.0
PRODID:https://fedsoc.org/events/panel-ii-are-we-atcyberwar-and-if-so-how-s
 hould-we-fight-it
BEGIN:VEVENT
UID:63a985b316ed8
DTSTART:20150429T143032Z
SEQUENCE:0
TRANSP:OPAQUE
DTEND:20150429T154532Z
LOCATION:1330 Connecticut Avenue\, NW Washington DC 20036
SUMMARY:Panel II: Are We @Cyberwar\, and If So\, How Should We Fight It?
CLASS:PUBLIC
X-ALT-DESC;FMTTYPE=text/html:Event: Panel II: Are We @Cyberwar\, and If So\
 , How Should We Fight It?\n\n Location: 1330 Connecticut Avenue\, NW Washi
 ngton DC 20036\n\n
DTSTAMP:20221226T062955Z
END:VEVENT
END:VCALENDAR