BEGIN:VCALENDAR
VERSION:2.0
PRODID:https://fedsoc.org/events/welcome-panel-i-how-to-manage-the-intellig
 ence-community
BEGIN:VEVENT
UID:63a985e5dc24e
DTSTART:20150429T125520Z
SEQUENCE:0
TRANSP:OPAQUE
DTEND:20150429T141520Z
LOCATION:1330 Connecticut Avenue\, NW Washington DC 20036
SUMMARY:Welcome & Panel I: How to Manage the Intelligence Community
CLASS:PUBLIC
X-ALT-DESC;FMTTYPE=text/html:Event: Welcome & Panel I: How to Manage the In
 telligence Community\n\n Location: 1330 Connecticut Avenue\, NW Washington
  DC 20036\n\n
DTSTAMP:20221226T063045Z
END:VEVENT
END:VCALENDAR