BEGIN:VCALENDAR
VERSION:2.0
PRODID:https://fedsoc.org/events/2015-national-security-symposium
BEGIN:VEVENT
UID:63a9861c54667
DTSTART:20150429T123014Z
SEQUENCE:0
TRANSP:OPAQUE
DTEND:20150429T170514Z
LOCATION:1330 Connecticut Avenue\, NW Washington DC 20036
SUMMARY:2015 National Security Symposium
CLASS:PUBLIC
X-ALT-DESC;FMTTYPE=text/html:Event: 2015 National Security Symposium\n\n Lo
 cation: 1330 Connecticut Avenue\, NW Washington DC 20036\n\n
DTSTAMP:20221226T063140Z
END:VEVENT
END:VCALENDAR