BEGIN:VCALENDAR
VERSION:2.0
PRODID:https://fedsoc.org/events/luncheon-and-address-by-william-h-webster-
 archive-collection
BEGIN:VEVENT
UID:60f983f42ba7c
DTSTART:19871107T173035Z
SEQUENCE:0
TRANSP:OPAQUE
DTEND:19871107T183035Z
LOCATION:1000 H St NW Washington DC 20001
SUMMARY:Luncheon and Address by William H. Webster [Archive Collection]
CLASS:PUBLIC
X-ALT-DESC;FMTTYPE=text/html:Event: Luncheon and Address by William H. Webs
 ter [Archive Collection]\n\n Location: 1000 H St NW Washington DC 20001\n\
 n
DTSTAMP:20210722T104300Z
END:VEVENT
END:VCALENDAR