BEGIN:VCALENDAR
VERSION:2.0
PRODID:https://fedsoc.org/events/the-future-of-originalism
BEGIN:VEVENT
UID:63a9aebaa03b4
DTSTART:20200527T170000Z
SEQUENCE:0
TRANSP:OPAQUE
DTEND:20200527T180000Z
LOCATION:   
SUMMARY:The Future of Originalism: A Federalist Society Zoom Dialogue
CLASS:PUBLIC
X-ALT-DESC;FMTTYPE=text/html:Event: The Future of Originalism: A Federalist
  Society Zoom Dialogue\n\n Location:    \n\n
DTSTAMP:20221226T092458Z
END:VEVENT
END:VCALENDAR