BEGIN:VCALENDAR
VERSION:2.0
PRODID:https://fedsoc.org/events/do-class-action-lawyers-make-too-much-mone
 y
BEGIN:VEVENT
UID:63a7fc7ae755f
DTSTART:20100901T160018Z
SEQUENCE:0
TRANSP:OPAQUE
DTEND:20100901T180018Z
LOCATION:1215 Wilbraham Rd Springfield MA 01119
SUMMARY:Do Class Action Lawyers Make Too Much Money?
CLASS:PUBLIC
X-ALT-DESC;FMTTYPE=text/html:Event: Do Class Action Lawyers Make Too Much M
 oney?\n\n Location: 1215 Wilbraham Rd Springfield MA 01119\n\n
DTSTAMP:20221225T023210Z
END:VEVENT
END:VCALENDAR