BEGIN:VCALENDAR
VERSION:2.0
PRODID:https://fedsoc.org/events/do-we-trust-judges-too-much-did-the-framer
 s-4
BEGIN:VEVENT
UID:63a99b1b710ff
DTSTART:20101006T160014Z
SEQUENCE:0
TRANSP:OPAQUE
DTEND:20101006T180014Z
LOCATION:1215 Wilbraham Rd Springfield MA 01119
SUMMARY:Do We Trust Judges Too Much? Did the Framers?
CLASS:PUBLIC
X-ALT-DESC;FMTTYPE=text/html:Event: Do We Trust Judges Too Much? Did the Fr
 amers?\n\n Location: 1215 Wilbraham Rd Springfield MA 01119\n\n
DTSTAMP:20221226T080115Z
END:VEVENT
END:VCALENDAR