BEGIN:VCALENDAR
VERSION:2.0
PRODID:https://fedsoc.org/events/keynote-address-and-commentary-where-are-t
 he-muslim-moderates
BEGIN:VEVENT
UID:63a9998e68c35
DTSTART:20111104T164514Z
SEQUENCE:0
TRANSP:OPAQUE
DTEND:20111104T181514Z
LOCATION:27 Independence Ave SE Washington DC 20003
SUMMARY:Keynote Address and Commentary: Where Are the Muslim Moderates?
CLASS:PUBLIC
X-ALT-DESC;FMTTYPE=text/html:Event: Keynote Address and Commentary: Where A
 re the Muslim Moderates?\n\n Location: 27 Independence Ave SE Washington D
 C 20003\n\n
DTSTAMP:20221226T075438Z
END:VEVENT
END:VCALENDAR