BEGIN:VCALENDAR
VERSION:2.0
PRODID:https://fedsoc.org/events/panel-ii-growing-repression-in-the-west
BEGIN:VEVENT
UID:63a999834aba4
DTSTART:20111104T152517Z
SEQUENCE:0
TRANSP:OPAQUE
DTEND:20111104T164002Z
LOCATION:27 Independence Ave SE Washington DC 20003
SUMMARY:Panel II: Growing Repression in the West
CLASS:PUBLIC
X-ALT-DESC;FMTTYPE=text/html:Event: Panel II: Growing Repression in the Wes
 t\n\n Location: 27 Independence Ave SE Washington DC 20003\n\n
DTSTAMP:20221226T075427Z
END:VEVENT
END:VCALENDAR