BEGIN:VCALENDAR
VERSION:2.0
PRODID:https://fedsoc.org/events/panel-i-the-muslim-world
BEGIN:VEVENT
UID:63a998f90e9d7
DTSTART:20111104T140018Z
SEQUENCE:0
TRANSP:OPAQUE
DTEND:20111104T151518Z
LOCATION:27 Independence Ave SE Washington DC 20003
SUMMARY:Panel I: The Muslim World
CLASS:PUBLIC
X-ALT-DESC;FMTTYPE=text/html:Event: Panel I: The Muslim World\n\n Location:
  27 Independence Ave SE Washington DC 20003\n\n
DTSTAMP:20221226T075209Z
END:VEVENT
END:VCALENDAR