BEGIN:VCALENDAR
VERSION:2.0
PRODID:https://fedsoc.org/events/silenced-how-apostasy-and-blasphemy-codes-
 are-choking-freedom-worldwide-an-overview-by-the-authors
BEGIN:VEVENT
UID:63a99918f369a
DTSTART:20111104T133009Z
SEQUENCE:0
TRANSP:OPAQUE
DTEND:20111104T140009Z
LOCATION:27 Independence Ave SE Washington DC 20003
SUMMARY:Silenced: How Apostasy and Blasphemy Codes are Choking Freedom Worl
 dwide - An Overview by the Authors
CLASS:PUBLIC
X-ALT-DESC;FMTTYPE=text/html:Event: Silenced: How Apostasy and Blasphemy Co
 des are Choking Freedom Worldwide - An Overview by the Authors\n\n Locatio
 n: 27 Independence Ave SE Washington DC 20003\n\n
DTSTAMP:20221226T075240Z
END:VEVENT
END:VCALENDAR