BEGIN:VCALENDAR
VERSION:2.0
PRODID:https://fedsoc.org/events/silenced
BEGIN:VEVENT
UID:63a9998881bff
DTSTART:20111104T133000Z
SEQUENCE:0
TRANSP:OPAQUE
DTEND:20111104T182000Z
LOCATION:27 Independence Ave SE Washington DC 20003
SUMMARY:Silenced: Are Global Trends to Ban Religious Defamation\, Religious
  Insult\, and Islamophobia a New Challenge to First Amendment Freedoms?
CLASS:PUBLIC
X-ALT-DESC;FMTTYPE=text/html:Event: Silenced: Are Global Trends to Ban Reli
 gious Defamation\, Religious Insult\, and Islamophobia a New Challenge to 
 First Amendment Freedoms?\n\n Location: 27 Independence Ave SE Washington 
 DC 20003\n\n
DTSTAMP:20221226T075432Z
END:VEVENT
END:VCALENDAR