BEGIN:VCALENDAR
VERSION:2.0
PRODID:https://fedsoc.org/events/closing-reception-24
BEGIN:VEVENT
UID:60f984432e409
DTSTART:19871107T230035Z
SEQUENCE:0
TRANSP:OPAQUE
DTEND:19871108T010035Z
LOCATION:1000 H St NW Washington DC 20001
SUMMARY:Closing Reception
CLASS:PUBLIC
X-ALT-DESC;FMTTYPE=text/html:Event: Closing Reception\n\n Location: 1000 H 
 St NW Washington DC 20001\n\n
DTSTAMP:20210722T104419Z
END:VEVENT
END:VCALENDAR