BEGIN:VCALENDAR
VERSION:2.0
PRODID:https://fedsoc.org/events/closing-address-3
BEGIN:VEVENT
UID:60f984349b926
DTSTART:19871107T223000Z
SEQUENCE:0
TRANSP:OPAQUE
DTEND:19871107T230012Z
LOCATION:1000 H St NW Washington DC 20001
SUMMARY:Closing Address by Hon. Edwin Meese III
CLASS:PUBLIC
X-ALT-DESC;FMTTYPE=text/html:Event: Closing Address by Hon. Edwin Meese III
 \n\n Location: 1000 H St NW Washington DC 20001\n\n
DTSTAMP:20210722T104404Z
END:VEVENT
END:VCALENDAR