BEGIN:VCALENDAR
VERSION:2.0
PRODID:https://fedsoc.org/events/panel-v-the-virtues-and-vices-of-democracy
 -in-conducting-foreign-affairs
BEGIN:VEVENT
UID:60f9841d529a2
DTSTART:19871107T203059Z
SEQUENCE:0
TRANSP:OPAQUE
DTEND:19871107T221559Z
LOCATION:1000 H St NW Washington DC 20001
SUMMARY:Panel V: The Virtues and Vices of Democracy in Conducting Foreign A
 ffairs [Archive Collection]
CLASS:PUBLIC
X-ALT-DESC;FMTTYPE=text/html:Event: Panel V: The Virtues and Vices of Democ
 racy in Conducting Foreign Affairs [Archive Collection]\n\n Location: 1000
  H St NW Washington DC 20001\n\n
DTSTAMP:20210722T104341Z
END:VEVENT
END:VCALENDAR