BEGIN:VCALENDAR
VERSION:2.0
PRODID:https://fedsoc.org/events/panel-iv-what-the-constitution-means-by-ex
 ecutive-power
BEGIN:VEVENT
UID:60f98407e77b9
DTSTART:19871107T183042Z
SEQUENCE:0
TRANSP:OPAQUE
DTEND:19871107T201542Z
LOCATION:1000 H St NW Washington DC 20001
SUMMARY:Panel IV: What the Constitution Means by Executive Power [Archive C
 ollection]
CLASS:PUBLIC
X-ALT-DESC;FMTTYPE=text/html:Event: Panel IV: What the Constitution Means b
 y Executive Power [Archive Collection]\n\n Location: 1000 H St NW Washingt
 on DC 20001\n\n
DTSTAMP:20210722T104319Z
END:VEVENT
END:VCALENDAR