BEGIN:VCALENDAR
VERSION:2.0
PRODID:https://fedsoc.org/events/luncheon-and-address
BEGIN:VEVENT
UID:60f983e66c7bf
DTSTART:19871107T163000Z
SEQUENCE:0
TRANSP:OPAQUE
DTEND:19871107T173000Z
LOCATION:1000 H St NW Washington DC 20001
SUMMARY:Luncheon and Address by John Norton Moore [Archive Collection]
CLASS:PUBLIC
X-ALT-DESC;FMTTYPE=text/html:Event: Luncheon and Address by John Norton Moo
 re [Archive Collection]\n\n Location: 1000 H St NW Washington DC 20001\n\n
DTSTAMP:20210722T104246Z
END:VEVENT
END:VCALENDAR