BEGIN:VCALENDAR
VERSION:2.0
PRODID:https://fedsoc.org/events/panel-iii-the-treaty-power
BEGIN:VEVENT
UID:60f983d6d8b6f
DTSTART:19871107T143000Z
SEQUENCE:0
TRANSP:OPAQUE
DTEND:19871107T161500Z
LOCATION:1000 H St NW Washington DC 20001
SUMMARY:Panel III: The Treaty Power [Archive Collection]
CLASS:PUBLIC
X-ALT-DESC;FMTTYPE=text/html:Event: Panel III: The Treaty Power [Archive Co
 llection]\n\n Location: 1000 H St NW Washington DC 20001\n\n
DTSTAMP:20210722T104230Z
END:VEVENT
END:VCALENDAR