BEGIN:VCALENDAR
VERSION:2.0
PRODID:https://fedsoc.org/events/banquet-7
BEGIN:VEVENT
UID:60f983d358797
DTSTART:19871107T000044Z
SEQUENCE:0
TRANSP:OPAQUE
DTEND:19871107T030044Z
LOCATION:1000 H St NW Washington DC 20001
SUMMARY:Banquet
CLASS:PUBLIC
X-ALT-DESC;FMTTYPE=text/html:Event: Banquet\n\n Location: 1000 H St NW Wash
 ington DC 20001\n\n
DTSTAMP:20210722T104227Z
END:VEVENT
END:VCALENDAR