BEGIN:VCALENDAR
VERSION:2.0
PRODID:https://fedsoc.org/events/panel-ii-the-first-amendment-and-national-
 security
BEGIN:VEVENT
UID:60f983bd3fed7
DTSTART:19871106T210025Z
SEQUENCE:0
TRANSP:OPAQUE
DTEND:19871106T224525Z
LOCATION:1000 H St NW Washington DC 20001
SUMMARY:Panel II: The First Amendment and National Security [Archive Collec
 tion]
CLASS:PUBLIC
X-ALT-DESC;FMTTYPE=text/html:Event: Panel II: The First Amendment and Natio
 nal Security [Archive Collection]\n\n Location: 1000 H St NW Washington DC
  20001\n\n
DTSTAMP:20210722T104205Z
END:VEVENT
END:VCALENDAR