BEGIN:VCALENDAR
VERSION:2.0
PRODID:https://fedsoc.org/events/address-6
BEGIN:VEVENT
UID:60f9838b4acd6
DTSTART:19871106T203031Z
SEQUENCE:0
TRANSP:OPAQUE
DTEND:19871106T210031Z
LOCATION:1000 H St NW Washington DC 20001
SUMMARY:Address by Secretary of Defense Caspar Weinberger [Archive Collecti
 on]
CLASS:PUBLIC
X-ALT-DESC;FMTTYPE=text/html:Event: Address by Secretary of Defense Caspar 
 Weinberger [Archive Collection]\n\n Location: 1000 H St NW Washington DC 2
 0001\n\n
DTSTAMP:20210722T104115Z
END:VEVENT
END:VCALENDAR