BEGIN:VCALENDAR
VERSION:2.0
PRODID:https://fedsoc.org/events/panel-i-the-president-s-powers-as-commande
 r-in-chief-vs-congress-s-war-power-and-appropriations-power
BEGIN:VEVENT
UID:60f98377b4e06
DTSTART:19871106T184549Z
SEQUENCE:0
TRANSP:OPAQUE
DTEND:19871106T202049Z
LOCATION:1000 H St NW Washington DC 20001
SUMMARY:Panel I: The President's Powers as Commander-in-Chief vs. Congress'
 s War Power and Appropriations Power [Archive Collection]
CLASS:PUBLIC
X-ALT-DESC;FMTTYPE=text/html:Event: Panel I: The President's Powers as Comm
 ander-in-Chief vs. Congress's War Power and Appropriations Power [Archive 
 Collection]\n\n Location: 1000 H St NW Washington DC 20001\n\n
DTSTAMP:20210722T104055Z
END:VEVENT
END:VCALENDAR