BEGIN:VCALENDAR
VERSION:2.0
PRODID:https://fedsoc.org/events/opening-address-3
BEGIN:VEVENT
UID:60f983659a349
DTSTART:19871106T180000Z
SEQUENCE:0
TRANSP:OPAQUE
DTEND:19871106T184507Z
LOCATION:1000 H St NW Washington DC 20001
SUMMARY:Opening Address by Dr. Zbigniew Brzezinski [Archive Collection]
CLASS:PUBLIC
X-ALT-DESC;FMTTYPE=text/html:Event: Opening Address by Dr. Zbigniew Brzezin
 ski [Archive Collection]\n\n Location: 1000 H St NW Washington DC 20001\n\
 n
DTSTAMP:20210722T104037Z
END:VEVENT
END:VCALENDAR