BEGIN:VCALENDAR
VERSION:2.0
PRODID:https://fedsoc.org/events/nuclear-arms-agreements-and-human-rights
BEGIN:VEVENT
UID:60e2392313e89
DTSTART:20200515T160039Z
SEQUENCE:0
TRANSP:OPAQUE
DTEND:20200515T170039Z
LOCATION:   
SUMMARY:Nuclear Arms Agreements and Human Rights
CLASS:PUBLIC
X-ALT-DESC;FMTTYPE=text/html:Event: Nuclear Arms Agreements and Human Right
 s\n\n Location:    \n\n
DTSTAMP:20210704T184139Z
END:VEVENT
END:VCALENDAR