BEGIN:VCALENDAR
VERSION:2.0
PRODID:https://fedsoc.org/events/will-international-law-matter-to-the-trump
 -administration
BEGIN:VEVENT
UID:63a7ce48d3904
DTSTART:20170123T173047Z
SEQUENCE:0
TRANSP:OPAQUE
DTEND:20170123T190047Z
LOCATION:120 F St NW Washington DC 20001
SUMMARY:Will International Law Matter to the Trump Administration?
CLASS:PUBLIC
X-ALT-DESC;FMTTYPE=text/html:Event: Will International Law Matter to the Tr
 ump Administration?\n\n Location: 120 F St NW Washington DC 20001\n\n
DTSTAMP:20221224T231504Z
END:VEVENT
END:VCALENDAR