BEGIN:VCALENDAR
VERSION:2.0
PRODID:https://fedsoc.org/events/alliances-and-interventions
BEGIN:VEVENT
UID:63a7ce333a533
DTSTART:20170123T154557Z
SEQUENCE:0
TRANSP:OPAQUE
DTEND:20170123T171557Z
LOCATION:120 F St NW Washington DC 20001
SUMMARY:Alliances and Interventions
CLASS:PUBLIC
X-ALT-DESC;FMTTYPE=text/html:Event: Alliances and Interventions\n\n Locatio
 n: 120 F St NW Washington DC 20001\n\n
DTSTAMP:20221224T231443Z
END:VEVENT
END:VCALENDAR