BEGIN:VCALENDAR
VERSION:2.0
PRODID:https://fedsoc.org/events/what-is-the-future-of-trade-law
BEGIN:VEVENT
UID:63a7cf141a692
DTSTART:20170123T140004Z
SEQUENCE:0
TRANSP:OPAQUE
DTEND:20170123T153004Z
LOCATION:120 F St NW Washington DC 20001
SUMMARY:What is the Future of Trade Law?
CLASS:PUBLIC
X-ALT-DESC;FMTTYPE=text/html:Event: What is the Future of Trade Law?\n\n Lo
 cation: 120 F St NW Washington DC 20001\n\n
DTSTAMP:20221224T231828Z
END:VEVENT
END:VCALENDAR