BEGIN:VCALENDAR
VERSION:2.0
PRODID:https://fedsoc.org/events/international-law-in-the-trump-era-expecta
 tions-hopes-and-fears
BEGIN:VEVENT
UID:63a7ce2e3e4a1
DTSTART:20170123T133000Z
SEQUENCE:0
TRANSP:OPAQUE
DTEND:20170123T190500Z
LOCATION:120 F St NW Washington DC 20001
SUMMARY:International Law in the Trump Era: Expectations\, Hopes\, and Fear
 s
CLASS:PUBLIC
X-ALT-DESC;FMTTYPE=text/html:Event: International Law in the Trump Era: Exp
 ectations\, Hopes\, and Fears\n\n Location: 120 F St NW Washington DC 2000
 1\n\n
DTSTAMP:20221224T231438Z
END:VEVENT
END:VCALENDAR