BEGIN:VCALENDAR
VERSION:2.0
PRODID:https://fedsoc.org/events/panel-two-how-do-we-balance-disclosure-wit
 h-maintaining-the-privacy-of-participants-in-contentious-issues
BEGIN:VEVENT
UID:63a79ba55b221
DTSTART:20140125T223027Z
SEQUENCE:0
TRANSP:OPAQUE
DTEND:20140126T000027Z
LOCATION:40 Presidential Drive Simi Valley CA 93065
SUMMARY:Panel Two: How do we balance disclosure with maintaining the privac
 y of participants in contentious issues?
CLASS:PUBLIC
X-ALT-DESC;FMTTYPE=text/html:Event: Panel Two: How do we balance disclosure
  with maintaining the privacy of participants in contentious issues?\n\n L
 ocation: 40 Presidential Drive Simi Valley CA 93065\n\n
DTSTAMP:20221224T193901Z
END:VEVENT
END:VCALENDAR