BEGIN:VCALENDAR
VERSION:2.0
PRODID:https://fedsoc.org/events/luncheon-address-an-interview-with-former-
 u-s-attorney-general-ed-meese
BEGIN:VEVENT
UID:63a79c0f3e07e
DTSTART:20140125T201507Z
SEQUENCE:0
TRANSP:OPAQUE
DTEND:20140125T221507Z
LOCATION:40 Presidential Drive Simi Valley CA 93065
SUMMARY:Luncheon Address: An Interview with Former U.S. Attorney General Ed
  Meese
CLASS:PUBLIC
X-ALT-DESC;FMTTYPE=text/html:Event: Luncheon Address: An Interview with For
 mer U.S. Attorney General Ed Meese\n\n Location: 40 Presidential Drive Sim
 i Valley CA 93065\n\n
DTSTAMP:20221224T194047Z
END:VEVENT
END:VCALENDAR