BEGIN:VCALENDAR
VERSION:2.0
PRODID:https://fedsoc.org/events/panel-one-has-the-united-states-supreme-co
 urt-killed-california-s-initiative-process-or-helped-check-its-abuses
BEGIN:VEVENT
UID:63a79bd6bfd74
DTSTART:20140125T180030Z
SEQUENCE:0
TRANSP:OPAQUE
DTEND:20140125T200030Z
LOCATION:40 Presidential Drive Simi Valley CA 93065
SUMMARY:Panel One: Has the United States Supreme Court killed California’
 s initiative process or helped check its abuses?
CLASS:PUBLIC
X-ALT-DESC;FMTTYPE=text/html:Event: Panel One: Has the United States Suprem
 e Court killed California’s initiative process or helped check its abuse
 s?\n\n Location: 40 Presidential Drive Simi Valley CA 93065\n\n
DTSTAMP:20221224T193950Z
END:VEVENT
END:VCALENDAR