BEGIN:VCALENDAR
VERSION:2.0
PRODID:https://fedsoc.org/events/2014-annual-western-chapters-conference
BEGIN:VEVENT
UID:63a79c4631722
DTSTART:20140125T180049Z
SEQUENCE:0
TRANSP:OPAQUE
DTEND:20140126T000549Z
LOCATION:40 Presidential Drive Simi Valley CA 93065
SUMMARY:2014 Annual Western Chapters Conference
CLASS:PUBLIC
X-ALT-DESC;FMTTYPE=text/html:Event: 2014 Annual Western Chapters Conference
 \n\n Location: 40 Presidential Drive Simi Valley CA 93065\n\n
DTSTAMP:20221224T194142Z
END:VEVENT
END:VCALENDAR