BEGIN:VCALENDAR
VERSION:2.0
PRODID:https://fedsoc.org/events/the-development-of-originalism
BEGIN:VEVENT
UID:63a79b8d21d53
DTSTART:20070127T220006Z
SEQUENCE:0
TRANSP:OPAQUE
DTEND:20070127T233006Z
LOCATION:40 Presidential Dr Simi Valley CA 93065
SUMMARY:The Development of Originalism
CLASS:PUBLIC
X-ALT-DESC;FMTTYPE=text/html:Event: The Development of Originalism\n\n Loca
 tion: 40 Presidential Dr Simi Valley CA 93065\n\n
DTSTAMP:20221224T193837Z
END:VEVENT
END:VCALENDAR