BEGIN:VCALENDAR
VERSION:2.0
PRODID:https://fedsoc.org/events/luncheon-address-by-hon-theodore-b-olson
BEGIN:VEVENT
UID:63a79b75db2c0
DTSTART:20070127T203000Z
SEQUENCE:0
TRANSP:OPAQUE
DTEND:20070127T213026Z
LOCATION:40 Presidential Dr Simi Valley CA 93065
SUMMARY:Luncheon Address by Hon. Theodore B. Olson
CLASS:PUBLIC
X-ALT-DESC;FMTTYPE=text/html:Event: Luncheon Address by Hon. Theodore B. Ol
 son\n\n Location: 40 Presidential Dr Simi Valley CA 93065\n\n
DTSTAMP:20221224T193813Z
END:VEVENT
END:VCALENDAR