BEGIN:VCALENDAR
VERSION:2.0
PRODID:https://fedsoc.org/events/interview-with-the-honorable-edwin-meese-i
 ii
BEGIN:VEVENT
UID:63a79b7b122ff
DTSTART:20070127T190003Z
SEQUENCE:0
TRANSP:OPAQUE
DTEND:20070127T203003Z
LOCATION:40 Presidential Dr Simi Valley CA 93065
SUMMARY:Interview with The Honorable Edwin Meese\, III
CLASS:PUBLIC
X-ALT-DESC;FMTTYPE=text/html:Event: Interview with The Honorable Edwin Mees
 e\, III\n\n Location: 40 Presidential Dr Simi Valley CA 93065\n\n
DTSTAMP:20221224T193819Z
END:VEVENT
END:VCALENDAR