BEGIN:VCALENDAR
VERSION:2.0
PRODID:https://fedsoc.org/events/the-meese-department-of-justice-its-accomp
 lishments-and-its-relevance-today
BEGIN:VEVENT
UID:63a79b6773b37
DTSTART:20070127T140046Z
SEQUENCE:0
TRANSP:OPAQUE
DTEND:20070127T153046Z
LOCATION:40 Presidential Dr Simi Valley CA 93065
SUMMARY:The Meese Department of Justice: Its Accomplishments and Its Releva
 nce Today
CLASS:PUBLIC
X-ALT-DESC;FMTTYPE=text/html:Event: The Meese Department of Justice: Its Ac
 complishments and Its Relevance Today\n\n Location: 40 Presidential Dr Sim
 i Valley CA 93065\n\n
DTSTAMP:20221224T193759Z
END:VEVENT
END:VCALENDAR