BEGIN:VCALENDAR
VERSION:2.0
PRODID:https://fedsoc.org/events/the-legacy-of-the-department-of-justice-un
 der-attorney-general-edwin-meese-iii
BEGIN:VEVENT
UID:63a79b619026f
DTSTART:20070127T170044Z
SEQUENCE:0
TRANSP:OPAQUE
DTEND:20070128T020044Z
LOCATION:40 Presidential Dr Simi Valley CA 93065
SUMMARY:The Legacy of the Department of Justice Under Attorney General Edwi
 n Meese\, III
CLASS:PUBLIC
X-ALT-DESC;FMTTYPE=text/html:Event: The Legacy of the Department of Justice
  Under Attorney General Edwin Meese\, III\n\n Location: 40 Presidential Dr
  Simi Valley CA 93065\n\n
DTSTAMP:20221224T193753Z
END:VEVENT
END:VCALENDAR