BEGIN:VCALENDAR
VERSION:2.0
PRODID:https://fedsoc.org/events/banquet-featuring-panel-on-building-innova
 tive-business-under-regulatory-uncertainty
BEGIN:VEVENT
UID:63a85d5c78bb9
DTSTART:20150222T004534Z
SEQUENCE:0
TRANSP:OPAQUE
DTEND:20150222T034534Z
LOCATION:1111 E 60th Street Chicago IL 60637
SUMMARY:Banquet featuring Panel on Building Innovative Business Under Regul
 atory Uncertainty
CLASS:PUBLIC
X-ALT-DESC;FMTTYPE=text/html:Event: Banquet featuring Panel on Building Inn
 ovative Business Under Regulatory Uncertainty\n\n Location: 1111 E 60th St
 reet Chicago IL 60637\n\n
DTSTAMP:20221225T092532Z
END:VEVENT
END:VCALENDAR