BEGIN:VCALENDAR
VERSION:2.0
PRODID:https://fedsoc.org/events/panel-iv-innovation-and-inequality-conserv
 ative-and-libertarian-perspectives
BEGIN:VEVENT
UID:63a85d2180518
DTSTART:20150221T214533Z
SEQUENCE:0
TRANSP:OPAQUE
DTEND:20150221T233033Z
LOCATION:1111 E 60th Street Chicago IL 60637
SUMMARY:Panel IV: Innovation and Inequality: Conservative and Libertarian P
 erspectives
CLASS:PUBLIC
X-ALT-DESC;FMTTYPE=text/html:Event: Panel IV: Innovation and Inequality: Co
 nservative and Libertarian Perspectives\n\n Location: 1111 E 60th Street C
 hicago IL 60637\n\n
DTSTAMP:20221225T092433Z
END:VEVENT
END:VCALENDAR