BEGIN:VCALENDAR
VERSION:2.0
PRODID:https://fedsoc.org/events/panel-iii-innovation-and-health-care
BEGIN:VEVENT
UID:63a85dba6291c
DTSTART:20150221T194517Z
SEQUENCE:0
TRANSP:OPAQUE
DTEND:20150221T213017Z
LOCATION:1111 E 60th Street Chicago IL 60637
SUMMARY:Panel III: Innovation and Health Care
CLASS:PUBLIC
X-ALT-DESC;FMTTYPE=text/html:Event: Panel III: Innovation and Health Care\n
 \n Location: 1111 E 60th Street Chicago IL 60637\n\n
DTSTAMP:20221225T092706Z
END:VEVENT
END:VCALENDAR