BEGIN:VCALENDAR
VERSION:2.0
PRODID:https://fedsoc.org/events/becoming-a-law-professor-1
BEGIN:VEVENT
UID:63a85ddbda75a
DTSTART:20150221T174549Z
SEQUENCE:0
TRANSP:OPAQUE
DTEND:20150221T191549Z
LOCATION:1111 E 60th Street Chicago IL 60637
SUMMARY:Becoming a Law Professor
CLASS:PUBLIC
X-ALT-DESC;FMTTYPE=text/html:Event: Becoming a Law Professor\n\n Location: 
 1111 E 60th Street Chicago IL 60637\n\n
DTSTAMP:20221225T092739Z
END:VEVENT
END:VCALENDAR