BEGIN:VCALENDAR
VERSION:2.0
PRODID:https://fedsoc.org/events/panel-ii-current-issues-in-patent-law
BEGIN:VEVENT
UID:63a85db51d3ea
DTSTART:20150221T160000Z
SEQUENCE:0
TRANSP:OPAQUE
DTEND:20150221T174504Z
LOCATION:1111 E 60th Street Chicago IL 60637
SUMMARY:Panel II: Current Issues in Patent Law
CLASS:PUBLIC
X-ALT-DESC;FMTTYPE=text/html:Event: Panel II: Current Issues in Patent Law\
 n\n Location: 1111 E 60th Street Chicago IL 60637\n\n
DTSTAMP:20221225T092701Z
END:VEVENT
END:VCALENDAR