BEGIN:VCALENDAR
VERSION:2.0
PRODID:https://fedsoc.org/events/panel-i-innovation-and-the-administrative-
 state
BEGIN:VEVENT
UID:63a85db0265ea
DTSTART:20150220T233018Z
SEQUENCE:0
TRANSP:OPAQUE
DTEND:20150221T011518Z
LOCATION:1111 E 60th Street Chicago IL 60637
SUMMARY:Panel I: Innovation and the Administrative State
CLASS:PUBLIC
X-ALT-DESC;FMTTYPE=text/html:Event: Panel I: Innovation and the Administrat
 ive State\n\n Location: 1111 E 60th Street Chicago IL 60637\n\n
DTSTAMP:20221225T092656Z
END:VEVENT
END:VCALENDAR