BEGIN:VCALENDAR
VERSION:2.0
PRODID:https://fedsoc.org/events/2015-national-student-symposium
BEGIN:VEVENT
UID:63a85d486879c
DTSTART:20150220T213024Z
SEQUENCE:0
TRANSP:OPAQUE
DTEND:20150222T040524Z
LOCATION:1111 E 60th Street Chicago IL 60637
SUMMARY:2015 National Student Symposium
CLASS:PUBLIC
X-ALT-DESC;FMTTYPE=text/html:Event: 2015 National Student Symposium\n\n Loc
 ation: 1111 E 60th Street Chicago IL 60637\n\n
DTSTAMP:20221225T092512Z
END:VEVENT
END:VCALENDAR