BEGIN:VCALENDAR
VERSION:2.0
PRODID:https://fedsoc.org/events/education-reform-and-equality-of-opportuni
 ty
BEGIN:VEVENT
UID:63a86405945f4
DTSTART:20160227T204515Z
SEQUENCE:0
TRANSP:OPAQUE
DTEND:20160227T223015Z
LOCATION:580 Massie Road Charlottesville VA 22903
SUMMARY:Panel IV: Education Reform and Equality of Opportunity
CLASS:PUBLIC
X-ALT-DESC;FMTTYPE=text/html:Event: Panel IV: Education Reform and Equality
  of Opportunity\n\n Location: 580 Massie Road Charlottesville VA 22903\n\n
DTSTAMP:20221225T095357Z
END:VEVENT
END:VCALENDAR