BEGIN:VCALENDAR
VERSION:2.0
PRODID:https://fedsoc.org/events/panel-i-capitalism-and-inequality
BEGIN:VEVENT
UID:63a863e09ce96
DTSTART:20160226T234504Z
SEQUENCE:0
TRANSP:OPAQUE
DTEND:20160227T014504Z
LOCATION:580 Massie Road Charlottesville VA 22903
SUMMARY:Panel I: Capitalism and Inequality
CLASS:PUBLIC
X-ALT-DESC;FMTTYPE=text/html:Event: Panel I: Capitalism and Inequality\n\n 
 Location: 580 Massie Road Charlottesville VA 22903\n\n
DTSTAMP:20221225T095320Z
END:VEVENT
END:VCALENDAR