BEGIN:VCALENDAR
VERSION:2.0
PRODID:https://fedsoc.org/events/2016-national-student-symposium
BEGIN:VEVENT
UID:63a863db94cce
DTSTART:20160226T200017Z
SEQUENCE:0
TRANSP:OPAQUE
DTEND:20160228T030517Z
LOCATION:580 Massie Road Charlottesville VA 22903
SUMMARY:2016 National Student Symposium
CLASS:PUBLIC
X-ALT-DESC;FMTTYPE=text/html:Event: 2016 National Student Symposium\n\n Loc
 ation: 580 Massie Road Charlottesville VA 22903\n\n
DTSTAMP:20221225T095315Z
END:VEVENT
END:VCALENDAR