BEGIN:VCALENDAR
VERSION:2.0
PRODID:https://fedsoc.org/events/restoring-judicial-power-righting-the-ship
 -of-judicial-review-and-deference-doctrines
BEGIN:VEVENT
UID:63a9dcebdf711
DTSTART:20200428T143000Z
SEQUENCE:0
TRANSP:OPAQUE
DTEND:20200428T153000Z
LOCATION:   
SUMMARY:Restoring Judicial Power: Righting the Ship of Judicial Review and 
 Deference Doctrines
CLASS:PUBLIC
X-ALT-DESC;FMTTYPE=text/html:Event: Restoring Judicial Power: Righting the 
 Ship of Judicial Review and Deference Doctrines\n\n Location:    \n\n
DTSTAMP:20221226T124203Z
END:VEVENT
END:VCALENDAR