BEGIN:VCALENDAR
VERSION:2.0
PRODID:https://fedsoc.org/events/wisconsin-lawyers-chapters-conference
BEGIN:VEVENT
UID:63a820f02d7c7
DTSTART:20200901T173000Z
SEQUENCE:0
TRANSP:OPAQUE
DTEND:20200903T233500Z
LOCATION:  WI 
SUMMARY:2020 Wisconsin Lawyers Chapters Conference
CLASS:PUBLIC
X-ALT-DESC;FMTTYPE=text/html:Event: 2020 Wisconsin Lawyers Chapters Confere
 nce\n\n Location:   WI \n\n
DTSTAMP:20221225T050744Z
END:VEVENT
END:VCALENDAR