BEGIN:VCALENDAR
VERSION:2.0
PRODID:https://fedsoc.org/events/free-speech-election-law-the-bartnicki-cas
 e-and-privacy
BEGIN:VEVENT
UID:611cbc6f6a113
DTSTART:20011116T213024Z
SEQUENCE:0
TRANSP:OPAQUE
DTEND:20011116T230024Z
LOCATION:1127 Connecticut Avenue NW Washington DC 20036
SUMMARY:Free Speech & Election Law: The Bartnicki Case and Privacy
CLASS:PUBLIC
X-ALT-DESC;FMTTYPE=text/html:Event: Free Speech & Election Law: The Bartnic
 ki Case and Privacy\n\n Location: 1127 Connecticut Avenue NW Washington DC
  20036\n\n
DTSTAMP:20210818T035319Z
END:VEVENT
END:VCALENDAR